BEGIN:VCALENDAR
VERSION:2.0
PRODID:-//Chicago Harbors - ECPv5.16.2.1//NONSGML v1.0//EN
CALSCALE:GREGORIAN
METHOD:PUBLISH
X-WR-CALNAME:Chicago Harbors
X-ORIGINAL-URL:https://www.chicagoharbors.info
X-WR-CALDESC:Events for Chicago Harbors
BEGIN:VTIMEZONE
TZID:America/Chicago
BEGIN:DAYLIGHT
TZOFFSETFROM:-0600
TZOFFSETTO:-0500
TZNAME:CDT
DTSTART:20180311T080000
END:DAYLIGHT
BEGIN:STANDARD
TZOFFSETFROM:-0500
TZOFFSETTO:-0600
TZNAME:CST
DTSTART:20181104T070000
END:STANDARD
END:VTIMEZONE
BEGIN:VEVENT
DTSTART;VALUE=DATE:20181115
DTEND;VALUE=DATE:20181116
DTSTAMP:20260423T010700
CREATED:20180313T195542Z
LAST-MODIFIED:20180313T195542Z
UID:4266-1542240000-1542326399@www.chicagoharbors.info
SUMMARY:Late Leaver Harbor Closes
DESCRIPTION:Please contact the Chicago Harbors if you’d like to apply for a late leaver permit allowing you to keep your boat in the designated late leaver harbor until November 15th.
URL:https://www.chicagoharbors.info/event/late-leaver-harbor-closes/
END:VEVENT
END:VCALENDAR