BEGIN:VCALENDAR
VERSION:2.0
PRODID:-//Chicago Harbors - ECPv5.16.2.1//NONSGML v1.0//EN
CALSCALE:GREGORIAN
METHOD:PUBLISH
X-WR-CALNAME:Chicago Harbors
X-ORIGINAL-URL:https://www.chicagoharbors.info
X-WR-CALDESC:Events for Chicago Harbors
BEGIN:VTIMEZONE
TZID:America/Chicago
BEGIN:DAYLIGHT
TZOFFSETFROM:-0600
TZOFFSETTO:-0500
TZNAME:CDT
DTSTART:20140309T080000
END:DAYLIGHT
BEGIN:STANDARD
TZOFFSETFROM:-0500
TZOFFSETTO:-0600
TZNAME:CST
DTSTART:20141102T070000
END:STANDARD
END:VTIMEZONE
BEGIN:VEVENT
DTSTART;VALUE=DATE:20140726
DTEND;VALUE=DATE:20140727
DTSTAMP:20260423T010832
CREATED:20140516T223553Z
LAST-MODIFIED:20140516T223553Z
UID:2069-1406332800-1406419199@www.chicagoharbors.info
SUMMARY:Ultimate Fitness Challenge
DESCRIPTION:Affected Harbors: Montrose \nAttendance: 3\,000
URL:https://www.chicagoharbors.info/event/ultimate-fitness-challenge/
LOCATION:Lincoln Picnic Grove
CATEGORIES:Notable Lakefront Events
END:VEVENT
END:VCALENDAR