BEGIN:VCALENDAR
VERSION:2.0
PRODID:-//Chicago Harbors - ECPv5.16.2.1//NONSGML v1.0//EN
CALSCALE:GREGORIAN
METHOD:PUBLISH
X-WR-CALNAME:Chicago Harbors
X-ORIGINAL-URL:https://www.chicagoharbors.info
X-WR-CALDESC:Events for Chicago Harbors
BEGIN:VTIMEZONE
TZID:America/Chicago
BEGIN:DAYLIGHT
TZOFFSETFROM:-0600
TZOFFSETTO:-0500
TZNAME:CDT
DTSTART:20140309T080000
END:DAYLIGHT
BEGIN:STANDARD
TZOFFSETFROM:-0500
TZOFFSETTO:-0600
TZNAME:CST
DTSTART:20141102T070000
END:STANDARD
END:VTIMEZONE
BEGIN:VEVENT
DTSTART;TZID=America/Chicago:20140719T100000
DTEND;TZID=America/Chicago:20140719T230000
DTSTAMP:20260423T141612
CREATED:20140516T223553Z
LAST-MODIFIED:20140516T223553Z
UID:2048-1405764000-1405810800@www.chicagoharbors.info
SUMMARY:Skyline SUO Series 2014
DESCRIPTION:Affected Harbor: Montrose \nAttendance: 600
URL:https://www.chicagoharbors.info/event/skyline-suo-series-2014/
LOCATION:Montrose Beach
CATEGORIES:Notable Lakefront Events
END:VEVENT
END:VCALENDAR