BEGIN:VCALENDAR
VERSION:2.0
PRODID:-//Chicago Harbors - ECPv5.16.2.1//NONSGML v1.0//EN
CALSCALE:GREGORIAN
METHOD:PUBLISH
X-WR-CALNAME:Chicago Harbors
X-ORIGINAL-URL:https://www.chicagoharbors.info
X-WR-CALDESC:Events for Chicago Harbors
BEGIN:VTIMEZONE
TZID:America/Chicago
BEGIN:DAYLIGHT
TZOFFSETFROM:-0600
TZOFFSETTO:-0500
TZNAME:CDT
DTSTART:20140309T080000
END:DAYLIGHT
BEGIN:STANDARD
TZOFFSETFROM:-0500
TZOFFSETTO:-0600
TZNAME:CST
DTSTART:20141102T070000
END:STANDARD
END:VTIMEZONE
BEGIN:VEVENT
DTSTART;VALUE=DATE:20140607
DTEND;VALUE=DATE:20140608
DTSTAMP:20260425T081513
CREATED:20140528T184220Z
LAST-MODIFIED:20140528T184220Z
UID:2300-1402099200-1402185599@www.chicagoharbors.info
SUMMARY:Sid Feldman Legacy 5k
DESCRIPTION:Affected Harbors: Diversey \nAttendance: 200
URL:https://www.chicagoharbors.info/event/sid-feldman-legacy-5k/
LOCATION:Lincoln Picnic Grove
CATEGORIES:Notable Lakefront Events
END:VEVENT
END:VCALENDAR