BEGIN:VCALENDAR
VERSION:2.0
PRODID:-//Chicago Harbors - ECPv5.16.2.1//NONSGML v1.0//EN
CALSCALE:GREGORIAN
METHOD:PUBLISH
X-WR-CALNAME:Chicago Harbors
X-ORIGINAL-URL:https://www.chicagoharbors.info
X-WR-CALDESC:Events for Chicago Harbors
BEGIN:VTIMEZONE
TZID:America/Chicago
BEGIN:DAYLIGHT
TZOFFSETFROM:-0600
TZOFFSETTO:-0500
TZNAME:CDT
DTSTART:20140309T080000
END:DAYLIGHT
BEGIN:STANDARD
TZOFFSETFROM:-0500
TZOFFSETTO:-0600
TZNAME:CST
DTSTART:20141102T070000
END:STANDARD
END:VTIMEZONE
BEGIN:VEVENT
DTSTART;TZID=America/Chicago:20140718T190000
DTEND;TZID=America/Chicago:20140720T230000
DTSTAMP:20260423T130016
CREATED:20140516T223553Z
LAST-MODIFIED:20140530T201425Z
UID:2043-1405710000-1405897200@www.chicagoharbors.info
SUMMARY:Phish Concert
DESCRIPTION:Affected Harbor: Burnham \nAttendance: N/A \nThe Chicago Police Department has asked that for safety purposes\, boaters should plan to arrive at least 1.5 hours before events and not try to leave until 1.5 hours after shows to facilitate traffic congestion.
URL:https://www.chicagoharbors.info/event/phish-concert/
LOCATION:First Merit Bank Pavilion
CATEGORIES:Notable Lakefront Events
END:VEVENT
END:VCALENDAR