BEGIN:VCALENDAR
VERSION:2.0
PRODID:-//Chicago Harbors - ECPv5.16.2.1//NONSGML v1.0//EN
CALSCALE:GREGORIAN
METHOD:PUBLISH
X-WR-CALNAME:Chicago Harbors
X-ORIGINAL-URL:https://www.chicagoharbors.info
X-WR-CALDESC:Events for Chicago Harbors
BEGIN:VTIMEZONE
TZID:America/Chicago
BEGIN:DAYLIGHT
TZOFFSETFROM:-0600
TZOFFSETTO:-0500
TZNAME:CDT
DTSTART:20140309T080000
END:DAYLIGHT
BEGIN:STANDARD
TZOFFSETFROM:-0500
TZOFFSETTO:-0600
TZNAME:CST
DTSTART:20141102T070000
END:STANDARD
END:VTIMEZONE
BEGIN:VEVENT
DTSTART;TZID=America/Chicago:20140720T110000
DTEND;TZID=America/Chicago:20140720T150000
DTSTAMP:20260423T083600
CREATED:20140528T200842Z
LAST-MODIFIED:20140528T200842Z
UID:2320-1405854000-1405868400@www.chicagoharbors.info
SUMMARY:Park Community Church Summer Fest
DESCRIPTION:Affected Harbors: Diversey \nAttendance: 400
URL:https://www.chicagoharbors.info/event/park-community-church-summer-fest/
LOCATION:Diversey Harbor
CATEGORIES:Notable Lakefront Events
END:VEVENT
END:VCALENDAR