BEGIN:VCALENDAR
VERSION:2.0
PRODID:-//Chicago Harbors - ECPv5.16.2.1//NONSGML v1.0//EN
CALSCALE:GREGORIAN
METHOD:PUBLISH
X-WR-CALNAME:Chicago Harbors
X-ORIGINAL-URL:https://www.chicagoharbors.info
X-WR-CALDESC:Events for Chicago Harbors
BEGIN:VTIMEZONE
TZID:America/Chicago
BEGIN:DAYLIGHT
TZOFFSETFROM:-0600
TZOFFSETTO:-0500
TZNAME:CDT
DTSTART:20140309T080000
END:DAYLIGHT
BEGIN:STANDARD
TZOFFSETFROM:-0500
TZOFFSETTO:-0600
TZNAME:CST
DTSTART:20141102T070000
END:STANDARD
END:VTIMEZONE
BEGIN:VEVENT
DTSTART;TZID=America/Chicago:20140518T080000
DTEND;TZID=America/Chicago:20140518T120000
DTSTAMP:20260424T035935
CREATED:20140515T153115Z
LAST-MODIFIED:20140516T223554Z
UID:1918-1400400000-1400414400@www.chicagoharbors.info
SUMMARY:Move for the Kids 5k Walk/Run presented by Ace Hardware
DESCRIPTION:Affected Harbors: Burnham and Monroe \nAttendance: N/A
URL:https://www.chicagoharbors.info/event/move-kids-5k-walkrun-presented-ace-hardware/
LOCATION:Soldier Field
CATEGORIES:Notable Lakefront Events
END:VEVENT
END:VCALENDAR