BEGIN:VCALENDAR
VERSION:2.0
PRODID:-//Chicago Harbors - ECPv5.16.2.1//NONSGML v1.0//EN
CALSCALE:GREGORIAN
METHOD:PUBLISH
X-WR-CALNAME:Chicago Harbors
X-ORIGINAL-URL:https://www.chicagoharbors.info
X-WR-CALDESC:Events for Chicago Harbors
BEGIN:VTIMEZONE
TZID:America/Chicago
BEGIN:DAYLIGHT
TZOFFSETFROM:-0600
TZOFFSETTO:-0500
TZNAME:CDT
DTSTART:20140309T080000
END:DAYLIGHT
BEGIN:STANDARD
TZOFFSETFROM:-0500
TZOFFSETTO:-0600
TZNAME:CST
DTSTART:20141102T070000
END:STANDARD
END:VTIMEZONE
BEGIN:VEVENT
DTSTART;VALUE=DATE:20140719
DTEND;VALUE=DATE:20140720
DTSTAMP:20260423T164322
CREATED:20140528T200745Z
LAST-MODIFIED:20140528T200745Z
UID:2318-1405728000-1405814399@www.chicagoharbors.info
SUMMARY:The Motherkicker Kickball Tournament
DESCRIPTION:Affected Harbors: Diversey \nAttendance: 600
URL:https://www.chicagoharbors.info/event/motherkicker-kickball-tournament/
LOCATION:Lincoln Diamond South Field
CATEGORIES:Notable Lakefront Events
END:VEVENT
END:VCALENDAR