BEGIN:VCALENDAR
VERSION:2.0
PRODID:-//Chicago Harbors - ECPv5.16.2.1//NONSGML v1.0//EN
CALSCALE:GREGORIAN
METHOD:PUBLISH
X-WR-CALNAME:Chicago Harbors
X-ORIGINAL-URL:https://www.chicagoharbors.info
X-WR-CALDESC:Events for Chicago Harbors
BEGIN:VTIMEZONE
TZID:America/Chicago
BEGIN:DAYLIGHT
TZOFFSETFROM:-0600
TZOFFSETTO:-0500
TZNAME:CDT
DTSTART:20140309T080000
END:DAYLIGHT
BEGIN:STANDARD
TZOFFSETFROM:-0500
TZOFFSETTO:-0600
TZNAME:CST
DTSTART:20141102T070000
END:STANDARD
END:VTIMEZONE
BEGIN:VEVENT
DTSTART;VALUE=DATE:20140801
DTEND;VALUE=DATE:20140804
DTSTAMP:20260422T085641
CREATED:20140516T223553Z
LAST-MODIFIED:20140516T223553Z
UID:2075-1406851200-1407110399@www.chicagoharbors.info
SUMMARY:Lollapalooza
DESCRIPTION:Affected Harbors: DuSable\, Monroe\, Burnham \nAttendance: N/A
URL:https://www.chicagoharbors.info/event/lollapalooza/
LOCATION:Grant Park
CATEGORIES:Notable Lakefront Events
END:VEVENT
END:VCALENDAR