BEGIN:VCALENDAR
VERSION:2.0
PRODID:-//Chicago Harbors - ECPv5.16.2.1//NONSGML v1.0//EN
CALSCALE:GREGORIAN
METHOD:PUBLISH
X-WR-CALNAME:Chicago Harbors
X-ORIGINAL-URL:https://www.chicagoharbors.info
X-WR-CALDESC:Events for Chicago Harbors
BEGIN:VTIMEZONE
TZID:America/Chicago
BEGIN:DAYLIGHT
TZOFFSETFROM:-0600
TZOFFSETTO:-0500
TZNAME:CDT
DTSTART:20140309T080000
END:DAYLIGHT
BEGIN:STANDARD
TZOFFSETFROM:-0500
TZOFFSETTO:-0600
TZNAME:CST
DTSTART:20141102T070000
END:STANDARD
END:VTIMEZONE
BEGIN:VEVENT
DTSTART;TZID=America/Chicago:20140522T190000
DTEND;TZID=America/Chicago:20140522T230000
DTSTAMP:20260424T082239
CREATED:20140515T153553Z
LAST-MODIFIED:20140516T223554Z
UID:1926-1400785200-1400799600@www.chicagoharbors.info
SUMMARY:JPMorgan Chase Corporate Challenge
DESCRIPTION:Affected Harbors: DuSable\, Monroe \nAttendance: 25\,000
URL:https://www.chicagoharbors.info/event/jpmorgan-chase-corporate-challenge/
LOCATION:Grant Park
CATEGORIES:Notable Lakefront Events
END:VEVENT
END:VCALENDAR