BEGIN:VCALENDAR
VERSION:2.0
PRODID:-//Chicago Harbors - ECPv5.16.2.1//NONSGML v1.0//EN
CALSCALE:GREGORIAN
METHOD:PUBLISH
X-WR-CALNAME:Chicago Harbors
X-ORIGINAL-URL:https://www.chicagoharbors.info
X-WR-CALDESC:Events for Chicago Harbors
BEGIN:VTIMEZONE
TZID:America/Chicago
BEGIN:DAYLIGHT
TZOFFSETFROM:-0600
TZOFFSETTO:-0500
TZNAME:CDT
DTSTART:20140309T080000
END:DAYLIGHT
BEGIN:STANDARD
TZOFFSETFROM:-0500
TZOFFSETTO:-0600
TZNAME:CST
DTSTART:20141102T070000
END:STANDARD
END:VTIMEZONE
BEGIN:VEVENT
DTSTART;VALUE=DATE:20140627
DTEND;VALUE=DATE:20140630
DTSTAMP:20260423T192441
CREATED:20140515T163340Z
LAST-MODIFIED:20140516T223554Z
UID:2010-1403827200-1404086399@www.chicagoharbors.info
SUMMARY:ITU World Triathalon Chicago
DESCRIPTION:Affected Harbors: Monroe\, DuSable \nAttendance: 36\,300
URL:https://www.chicagoharbors.info/event/itu-world-triathalon-chicago/
LOCATION:Grant Park
CATEGORIES:Notable Lakefront Events
END:VEVENT
END:VCALENDAR