BEGIN:VCALENDAR
VERSION:2.0
PRODID:-//Chicago Harbors - ECPv5.16.2.1//NONSGML v1.0//EN
CALSCALE:GREGORIAN
METHOD:PUBLISH
X-WR-CALNAME:Chicago Harbors
X-ORIGINAL-URL:https://www.chicagoharbors.info
X-WR-CALDESC:Events for Chicago Harbors
BEGIN:VTIMEZONE
TZID:America/Chicago
BEGIN:DAYLIGHT
TZOFFSETFROM:-0600
TZOFFSETTO:-0500
TZNAME:CDT
DTSTART:20140309T080000
END:DAYLIGHT
BEGIN:STANDARD
TZOFFSETFROM:-0500
TZOFFSETTO:-0600
TZNAME:CST
DTSTART:20141102T070000
END:STANDARD
END:VTIMEZONE
BEGIN:VEVENT
DTSTART;TZID=America/Chicago:20140517T040000
DTEND;TZID=America/Chicago:20140517T113000
DTSTAMP:20260423T230054
CREATED:20140515T152747Z
LAST-MODIFIED:20140516T223555Z
UID:1912-1400299200-1400326200@www.chicagoharbors.info
SUMMARY:Girls on the Run Grant Park 5k
DESCRIPTION:Affected Harbors: Monroe \nAttendance: 4\,000
URL:https://www.chicagoharbors.info/event/girls-run-grant-park-5k/
LOCATION:Grant Park
CATEGORIES:Notable Lakefront Events
END:VEVENT
END:VCALENDAR