BEGIN:VCALENDAR
VERSION:2.0
PRODID:-//Chicago Harbors - ECPv5.16.2.1//NONSGML v1.0//EN
CALSCALE:GREGORIAN
METHOD:PUBLISH
X-WR-CALNAME:Chicago Harbors
X-ORIGINAL-URL:https://www.chicagoharbors.info
X-WR-CALDESC:Events for Chicago Harbors
BEGIN:VTIMEZONE
TZID:America/Chicago
BEGIN:DAYLIGHT
TZOFFSETFROM:-0600
TZOFFSETTO:-0500
TZNAME:CDT
DTSTART:20140309T080000
END:DAYLIGHT
BEGIN:STANDARD
TZOFFSETFROM:-0500
TZOFFSETTO:-0600
TZNAME:CST
DTSTART:20141102T070000
END:STANDARD
END:VTIMEZONE
BEGIN:VEVENT
DTSTART;TZID=America/Chicago:20140606T070000
DTEND;TZID=America/Chicago:20140606T140000
DTSTAMP:20260425T055011
CREATED:20140515T155840Z
LAST-MODIFIED:20140516T223554Z
UID:1955-1402038000-1402063200@www.chicagoharbors.info
SUMMARY:Founders Day Picnic for Chicago Military Academy
DESCRIPTION:Affected Harbors: Jackson Harbors \nAttendance: 400
URL:https://www.chicagoharbors.info/event/founders-day-picnic-chicago-military-academy/
LOCATION:Jackson Picnic Grove
CATEGORIES:Notable Lakefront Events
END:VEVENT
END:VCALENDAR