BEGIN:VCALENDAR
VERSION:2.0
PRODID:-//Chicago Harbors - ECPv5.16.2.1//NONSGML v1.0//EN
CALSCALE:GREGORIAN
METHOD:PUBLISH
X-WR-CALNAME:Chicago Harbors
X-ORIGINAL-URL:https://www.chicagoharbors.info
X-WR-CALDESC:Events for Chicago Harbors
BEGIN:VTIMEZONE
TZID:America/Chicago
BEGIN:DAYLIGHT
TZOFFSETFROM:-0600
TZOFFSETTO:-0500
TZNAME:CDT
DTSTART:20140309T080000
END:DAYLIGHT
BEGIN:STANDARD
TZOFFSETFROM:-0500
TZOFFSETTO:-0600
TZNAME:CST
DTSTART:20141102T070000
END:STANDARD
END:VTIMEZONE
BEGIN:VEVENT
DTSTART;TZID=America/Chicago:20140626T063000
DTEND;TZID=America/Chicago:20140626T223000
DTSTAMP:20260423T231836
CREATED:20140515T163840Z
LAST-MODIFIED:20140516T223554Z
UID:2014-1403764200-1403821800@www.chicagoharbors.info
SUMMARY:Disco Dash
DESCRIPTION:Affected Harbors: Burnham\, 31st Street \nAttendance: 6\,000
URL:https://www.chicagoharbors.info/event/disco-dash/
LOCATION:Burnham Lakefront Path
CATEGORIES:Notable Lakefront Events
END:VEVENT
END:VCALENDAR