BEGIN:VCALENDAR
VERSION:2.0
PRODID:-//Chicago Harbors - ECPv5.16.2.1//NONSGML v1.0//EN
CALSCALE:GREGORIAN
METHOD:PUBLISH
X-WR-CALNAME:Chicago Harbors
X-ORIGINAL-URL:https://www.chicagoharbors.info
X-WR-CALDESC:Events for Chicago Harbors
BEGIN:VTIMEZONE
TZID:America/Chicago
BEGIN:DAYLIGHT
TZOFFSETFROM:-0600
TZOFFSETTO:-0500
TZNAME:CDT
DTSTART:20140309T080000
END:DAYLIGHT
BEGIN:STANDARD
TZOFFSETFROM:-0500
TZOFFSETTO:-0600
TZNAME:CST
DTSTART:20141102T070000
END:STANDARD
END:VTIMEZONE
BEGIN:VEVENT
DTSTART;TZID=America/Chicago:20140517T090000
DTEND;TZID=America/Chicago:20140517T130000
DTSTAMP:20260424T013313
CREATED:20140515T152953Z
LAST-MODIFIED:20140516T223555Z
UID:1916-1400317200-1400331600@www.chicagoharbors.info
SUMMARY:Chicago Take Steps for Chron's and Colitis
DESCRIPTION:Affected Harbors: Montrose \nAttendance: 800
URL:https://www.chicagoharbors.info/event/chicago-take-steps-chrons-colitis/
LOCATION:Lincoln Picnic Grove
CATEGORIES:Notable Lakefront Events
END:VEVENT
END:VCALENDAR