BEGIN:VCALENDAR
VERSION:2.0
PRODID:-//Chicago Harbors - ECPv5.16.2.1//NONSGML v1.0//EN
CALSCALE:GREGORIAN
METHOD:PUBLISH
X-WR-CALNAME:Chicago Harbors
X-ORIGINAL-URL:https://www.chicagoharbors.info
X-WR-CALDESC:Events for Chicago Harbors
BEGIN:VTIMEZONE
TZID:America/Chicago
BEGIN:DAYLIGHT
TZOFFSETFROM:-0600
TZOFFSETTO:-0500
TZNAME:CDT
DTSTART:20140309T080000
END:DAYLIGHT
BEGIN:STANDARD
TZOFFSETFROM:-0500
TZOFFSETTO:-0600
TZNAME:CST
DTSTART:20141102T070000
END:STANDARD
END:VTIMEZONE
BEGIN:VEVENT
DTSTART;TZID=America/Chicago:20140727T080000
DTEND;TZID=America/Chicago:20140727T130000
DTSTAMP:20260422T141710
CREATED:20140724T234208Z
LAST-MODIFIED:20140724T234208Z
UID:2478-1406448000-1406466000@www.chicagoharbors.info
SUMMARY:Chicago SUP Yacs Classic
DESCRIPTION:Affected Harbors: Montrose \nExpected Attendance: 200
URL:https://www.chicagoharbors.info/event/chicago-sup-yacs-classic/
LOCATION:Montrose Beach
CATEGORIES:Notable Lakefront Events
END:VEVENT
END:VCALENDAR