BEGIN:VCALENDAR
VERSION:2.0
PRODID:-//Chicago Harbors - ECPv5.16.2.1//NONSGML v1.0//EN
CALSCALE:GREGORIAN
METHOD:PUBLISH
X-WR-CALNAME:Chicago Harbors
X-ORIGINAL-URL:https://www.chicagoharbors.info
X-WR-CALDESC:Events for Chicago Harbors
BEGIN:VTIMEZONE
TZID:America/Chicago
BEGIN:DAYLIGHT
TZOFFSETFROM:-0600
TZOFFSETTO:-0500
TZNAME:CDT
DTSTART:20140309T080000
END:DAYLIGHT
BEGIN:STANDARD
TZOFFSETFROM:-0500
TZOFFSETTO:-0600
TZNAME:CST
DTSTART:20141102T070000
END:STANDARD
END:VTIMEZONE
BEGIN:VEVENT
DTSTART;TZID=America/Chicago:20140613T060000
DTEND;TZID=America/Chicago:20140615T235500
DTSTAMP:20260424T225700
CREATED:20140515T160538Z
LAST-MODIFIED:20140518T124027Z
UID:1967-1402639200-1402876500@www.chicagoharbors.info
SUMMARY:Chicago Blues Festival
DESCRIPTION:Affected Harbors: Monroe\, DuSable \nAttendance: 1\,500
URL:https://www.chicagoharbors.info/event/chicago-blues-festival/
LOCATION:Grant Park
CATEGORIES:Notable Lakefront Events
END:VEVENT
END:VCALENDAR