BEGIN:VCALENDAR
VERSION:2.0
PRODID:-//Chicago Harbors - ECPv5.16.2.1//NONSGML v1.0//EN
CALSCALE:GREGORIAN
METHOD:PUBLISH
X-WR-CALNAME:Chicago Harbors
X-ORIGINAL-URL:https://www.chicagoharbors.info
X-WR-CALDESC:Events for Chicago Harbors
BEGIN:VTIMEZONE
TZID:America/Chicago
BEGIN:DAYLIGHT
TZOFFSETFROM:-0600
TZOFFSETTO:-0500
TZNAME:CDT
DTSTART:20140309T080000
END:DAYLIGHT
BEGIN:STANDARD
TZOFFSETFROM:-0500
TZOFFSETTO:-0600
TZNAME:CST
DTSTART:20141102T070000
END:STANDARD
END:VTIMEZONE
BEGIN:VEVENT
DTSTART;TZID=America/Chicago:20140716T110000
DTEND;TZID=America/Chicago:20140716T133000
DTSTAMP:20260423T114703
CREATED:20140703T111614Z
LAST-MODIFIED:20140703T111614Z
UID:2419-1405508400-1405517400@www.chicagoharbors.info
SUMMARY:Alderman Tunney Senior Picnic
DESCRIPTION:Affected Harbor: Montrose
URL:https://www.chicagoharbors.info/event/alderman-tunney-senior-picnic/
LOCATION:Lincoln Picnic Grove
CATEGORIES:Notable Lakefront Events
END:VEVENT
END:VCALENDAR