BEGIN:VCALENDAR
VERSION:2.0
PRODID:-//Chicago Harbors - ECPv5.16.2.1//NONSGML v1.0//EN
CALSCALE:GREGORIAN
METHOD:PUBLISH
X-WR-CALNAME:Chicago Harbors
X-ORIGINAL-URL:https://www.chicagoharbors.info
X-WR-CALDESC:Events for Chicago Harbors
BEGIN:VTIMEZONE
TZID:America/Chicago
BEGIN:DAYLIGHT
TZOFFSETFROM:-0600
TZOFFSETTO:-0500
TZNAME:CDT
DTSTART:20140309T080000
END:DAYLIGHT
BEGIN:STANDARD
TZOFFSETFROM:-0500
TZOFFSETTO:-0600
TZNAME:CST
DTSTART:20141102T070000
END:STANDARD
END:VTIMEZONE
BEGIN:VEVENT
DTSTART;TZID=America/Chicago:20140724T190000
DTEND;TZID=America/Chicago:20140724T230000
DTSTAMP:20260423T042941
CREATED:20140516T223553Z
LAST-MODIFIED:20140516T223553Z
UID:2052-1406228400-1406242800@www.chicagoharbors.info
SUMMARY:12th Annual Run for Gus 5k Run/1 Mile Walk
DESCRIPTION:Affected Harbors: Diversey \nAttendance: 1\,250
URL:https://www.chicagoharbors.info/event/12th-annual-run-gus-5k-run1-mile-walk/
LOCATION:Lincoln Picnic Grove
CATEGORIES:Notable Lakefront Events
END:VEVENT
END:VCALENDAR