BEGIN:VCALENDAR
VERSION:2.0
PRODID:-//Chicago Harbors - ECPv5.16.2.1//NONSGML v1.0//EN
CALSCALE:GREGORIAN
METHOD:PUBLISH
X-WR-CALNAME:Chicago Harbors
X-ORIGINAL-URL:https://www.chicagoharbors.info
X-WR-CALDESC:Events for Chicago Harbors
BEGIN:VTIMEZONE
TZID:America/Chicago
BEGIN:DAYLIGHT
TZOFFSETFROM:-0600
TZOFFSETTO:-0500
TZNAME:CDT
DTSTART:20140309T080000
END:DAYLIGHT
BEGIN:STANDARD
TZOFFSETFROM:-0500
TZOFFSETTO:-0600
TZNAME:CST
DTSTART:20141102T070000
END:STANDARD
END:VTIMEZONE
BEGIN:VEVENT
DTSTART;VALUE=DATE:20140719
DTEND;VALUE=DATE:20140720
DTSTAMP:20260423T141931
CREATED:20140325T200913Z
LAST-MODIFIED:20140331T191842Z
UID:1699-1405728000-1405814399@www.chicagoharbors.info
SUMMARY:106th Race to Mackinac
DESCRIPTION:The Chicago Yacht Club “Race to Mackinac” is the oldest annual freshwater distance race in the world.  333 statute miles (289.4 nautical miles) from Chicago\, starting just off Navy Pier\, to Mackinac Island\, Michigan.
URL:https://www.chicagoharbors.info/event/106th-race-to-mackinac/
ATTACH;FMTTYPE=image/jpeg:https://www.chicagoharbors.info/wp-content/uploads/2014/03/race-to-mackinac.jpg
END:VEVENT
END:VCALENDAR